BEGIN:VCALENDAR
VERSION:2.0
PRODID:-//OCEANGRO - ECPv6.15.20//NONSGML v1.0//EN
CALSCALE:GREGORIAN
METHOD:PUBLISH
X-ORIGINAL-URL:https://oceangro.com
X-WR-CALDESC:Events for OCEANGRO
REFRESH-INTERVAL;VALUE=DURATION:PT1H
X-Robots-Tag:noindex
X-PUBLISHED-TTL:PT1H
BEGIN:VTIMEZONE
TZID:America/New_York
BEGIN:DAYLIGHT
TZOFFSETFROM:-0500
TZOFFSETTO:-0400
TZNAME:EDT
DTSTART:20250309T070000
END:DAYLIGHT
BEGIN:STANDARD
TZOFFSETFROM:-0400
TZOFFSETTO:-0500
TZNAME:EST
DTSTART:20251102T060000
END:STANDARD
BEGIN:DAYLIGHT
TZOFFSETFROM:-0500
TZOFFSETTO:-0400
TZNAME:EDT
DTSTART:20260308T070000
END:DAYLIGHT
BEGIN:STANDARD
TZOFFSETFROM:-0400
TZOFFSETTO:-0500
TZNAME:EST
DTSTART:20261101T060000
END:STANDARD
BEGIN:DAYLIGHT
TZOFFSETFROM:-0500
TZOFFSETTO:-0400
TZNAME:EDT
DTSTART:20270314T070000
END:DAYLIGHT
BEGIN:STANDARD
TZOFFSETFROM:-0400
TZOFFSETTO:-0500
TZNAME:EST
DTSTART:20271107T060000
END:STANDARD
END:VTIMEZONE
BEGIN:VEVENT
DTSTART;TZID=America/New_York:20260328T120000
DTEND;TZID=America/New_York:20260328T160000
DTSTAMP:20260419T085517
CREATED:20260305T145834Z
LAST-MODIFIED:20260305T145834Z
UID:7704-1774699200-1774713600@oceangro.com
SUMMARY:Spring In The Park
DESCRIPTION:Join us as celebrate Spring alongside Berkeley Township.  Festivities include Craft Vendors\, inflatable rides\, food trucks\, an Easter Egg Hunt and more!
URL:https://oceangro.com/event/spring-in-the-park/
LOCATION:Veterans Park\, 489 Bill Zimmerman Jr Way\, Bayville\, NJ\, 08721\, United States
END:VEVENT
END:VCALENDAR